BEGIN:VCALENDAR
VERSION:2.0
PRODID:-//hacksw/handcal//NONSGML v1.0//EN
BEGIN:VEVENT
SUMMARY:Trophee CAMP IO Petanque
UID:c533c7f9-8c62-4736-817e-f1bc4fd85b5b
DTSTART:20260818T090000Z
DTEND:20260820T160000Z
LOCATION:Localisation Complexe sportifs les L'Oumiere 17310 St Pierre d'Oleron
CATEGORIES:Manifestation
STATUS:
DESCRIPTION:<p><span style="font-size:20px;">Voir avec le bureau pour
 inscription.</span></p>
 
 <p><span style="font-size:20px;">ATTENTION
 il faut etre sur un des campings qui participe a cet
 evenement. </span></p>
 
 <p><span style="font-size:20px;">Plutot les
 inscriptions sont faites, car les places sur les campings concernees
 seront pris par les vacanciers.</span></p>
URL;VALUE=URI:https://petanqueangoulins.sportsregions.fr/evenements/2026/08/18/trophee-camp-io-petanque-2441170
END:VEVENT
END:VCALENDAR
